BEGIN:VCALENDAR
VERSION:2.0
PRODID:-//Sabre//Sabre VObject 4.5.8//EN
CALSCALE:GREGORIAN
BEGIN:VEVENT
UID:11864@muncieevents.com
DTSTAMP:20260425T232747Z
CATEGORIES:Music
COMMENT:
CONTACT:lockedgrooverecordsmuncie@gmail.com
DTSTART;TZID=AMERICA/INDIANA/INDIANAPOLIS:20260501T190000
DESCRIPTION:Finally hosting an electronic / house / techno show!\n\nFriday 
 May 1st. Music starts around 7. $5 at the door PWYC. &nbsp\;LETS DANCE!\n\
 n&nbsp\;\n\nFlyer credit stormy cline&nbsp\;
LOCATION:Locked Groove Records\, green house in the construction zone  (519
  N Martin St Muncie\, IN 47303)
SUMMARY:Freakquencies
URL;VALUE=URI:https://muncieevents.com/event/11864
END:VEVENT
END:VCALENDAR
