BEGIN:VCALENDAR
VERSION:2.0
PRODID:-//Sabre//Sabre VObject 4.5.8//EN
CALSCALE:GREGORIAN
BEGIN:VEVENT
UID:11851@muncieevents.com
DTSTAMP:20260422T060257Z
CATEGORIES:General Events
COMMENT:Info source: https://eventvesta.com/events/143606/t/tickets
CONTACT:mbarry@minnetrista.net
DTSTART;TZID=AMERICA/INDIANA/INDIANAPOLIS:20260601T090000
DESCRIPTION:June 1–5\; 9 a.m.–2 p.m.\n\nLocation: Education Center\n\nC
 ost: $255/Week | Member Discounts Apply\n\nRegistration Deadline: May 28\,
  2026\n\n&nbsp\;\n\nLunch Provided. Ages 9–11 years old.\n\n&nbsp\;\n\nC
 alling all aspiring chefs! This fun and interactive camp introduces partic
 ipants to the fundamentals of the kitchen—from basic prep to hands-on co
 oking. Each day offers new culinary adventures designed to spark creativit
 y\, build confidence\, and inspire a lifelong love of cooking.\n\n&nbsp\;\
 n\nAftercare available for free until 5 p.m.\n\n&nbsp\;\n\nFood &amp\; Med
 ical Information\n\nBefore registering\, please email knickel@minnetrista.
 net with any food allergies or dietary restrictions. Some accommodations c
 an be made\; however\, we are unable to accommodate severe allergies (incl
 uding gluten or nut)\, as food is prepared in shared group settings. Minne
 trista is also unable to store or administer medication.\n\n&nbsp\;\n\nhtt
 ps://www.minnetrista.net/events/junior-chefs-camp-2026
LOCATION:Minnetrista Museum & Gardens\, Education Center (Minnetrista Museu
 m & Gardens\, Education Center 1200 N Minnetrista Pkwy Muncie\, IN 47303
 )
SUMMARY:Camp Minnetrista: Junior Chefs
URL;VALUE=URI:https://muncieevents.com/event/11851
DTEND;TZID=AMERICA/INDIANA/INDIANAPOLIS:20260601T140000
END:VEVENT
END:VCALENDAR
