BEGIN:VCALENDAR
VERSION:2.0
PRODID:-//Sabre//Sabre VObject 4.5.8//EN
CALSCALE:GREGORIAN
BEGIN:VEVENT
UID:11845@muncieevents.com
DTSTAMP:20260423T114715Z
CATEGORIES:Sports
COMMENT:Info source: https://cornfedrollerderby.com/2026/04/cornflict-scrim
 -a-thon-returns-to-muncie-this-saturday-4-25-26/
CONTACT:debs765@yahoo.com
DTSTART;TZID=AMERICA/INDIANA/INDIANAPOLIS:20260425T090000
DESCRIPTION:Cornfed Roller Derby will host the third annual Cornflict Scrim
 -a-Thon\, an all-day\, open-gender scrimmage event on Saturday\, April 25\
 , 2026\, at the Delaware County Fairgrounds Memorial Building in Muncie\, 
 Indiana.\n\nSkaters from 23 teams across seven states (72 skaters total) w
 ill be divided into four mixed-level teams: Team Corn Cob (blue)\, Team Po
 pcorn (yellow)\, Team Candy Corn (orange)\, and Team Unicorn (purple). Eac
 h game will feature two 20-minute halves with a 5–8 minute halftime\, an
 d each team will play three games throughout the day.\n\nSpectators are we
 lcome\, with a suggested $10 donation at the door. This is a casual\, low-
 key event with limited seating provided. Guests (and skaters) are encourag
 ed to bring their own chairs.\n\nThe event will also feature a special per
 formance by The Aerial Annex during the 3-4 p.m. break.\n\nEvent Schedule:
 \n10:00 a.m. – Game 1: Team Popcorn vs. Team Unicorn\n11:00 a.m. – Gam
 e 2: Team Corn Cob vs. Team Candy Corn\n12:00 p.m. – Lunch Break\n1:00 p
 .m. – Game 3: Team Candy Corn vs. Team Popcorn\n2:00 p.m. – Game 4: Te
 am Unicorn vs. Team Corn Cob\n3:00 p.m. – Break: Aerial Annex Performanc
 e\n4:00 p.m. – Game 5: Team Corn Cob vs. Team Popcorn\n5:00 p.m. – Gam
 e 6: Team Candy Corn vs. Team Unicorn
LOCATION:Delaware County Fairgrounds\, Memorial Building (1210 Wheeling Ave
 \, Muncie IN)
SUMMARY:Cornfed Roller Derby Cornflict Scrim-a-thon
URL;VALUE=URI:https://muncieevents.com/event/11845
DTEND;TZID=AMERICA/INDIANA/INDIANAPOLIS:20260425T180000
END:VEVENT
END:VCALENDAR
